BEGIN:VCALENDAR
VERSION:2.0
PRODID:-//St. Vincent de Paul Parish - ECPv6.7.0//NONSGML v1.0//EN
CALSCALE:GREGORIAN
METHOD:PUBLISH
X-ORIGINAL-URL:https://svdppeoria.com
X-WR-CALDESC:Events for St. Vincent de Paul Parish
REFRESH-INTERVAL;VALUE=DURATION:PT1H
X-Robots-Tag:noindex
X-PUBLISHED-TTL:PT1H
BEGIN:VTIMEZONE
TZID:America/Chicago
BEGIN:DAYLIGHT
TZOFFSETFROM:-0600
TZOFFSETTO:-0500
TZNAME:CDT
DTSTART:20250309T080000
END:DAYLIGHT
BEGIN:STANDARD
TZOFFSETFROM:-0500
TZOFFSETTO:-0600
TZNAME:CST
DTSTART:20251102T070000
END:STANDARD
END:VTIMEZONE
BEGIN:VEVENT
DTSTART;TZID=America/Chicago:20251102T180000
DTEND;TZID=America/Chicago:20251102T200000
DTSTAMP:20260423T125544
CREATED:20250804T154236Z
LAST-MODIFIED:20250804T154657Z
UID:10000469-1762106400-1762113600@svdppeoria.com
SUMMARY:LifeTeen: Good Genes (Life Night on Incorruptible Saints) - St. Thomas
DESCRIPTION:All high school students are welcome!
URL:https://svdppeoria.com/event/lifeteen-good-genes-life-night-on-incorruptible-saints-st-thomas/
LOCATION:St. Thomas Parish Hall
CATEGORIES:LifeTeen
END:VEVENT
BEGIN:VEVENT
DTSTART;TZID=America/Chicago:20251104T080000
DTEND;TZID=America/Chicago:20251104T180000
DTSTAMP:20260423T125544
CREATED:20250804T161706Z
LAST-MODIFIED:20250804T161706Z
UID:10000752-1762243200-1762279200@svdppeoria.com
SUMMARY:Tuesday Adoration
DESCRIPTION:
URL:https://svdppeoria.com/event/tuesday-adoration/2025-11-04/
LOCATION:Sanctuary
END:VEVENT
BEGIN:VEVENT
DTSTART;TZID=America/Chicago:20251104T173000
DTEND;TZID=America/Chicago:20251104T200000
DTSTAMP:20260423T125544
CREATED:20241031T171104Z
LAST-MODIFIED:20260211T180627Z
UID:10000263-1762277400-1762286400@svdppeoria.com
SUMMARY:Women's Guild Meeting
DESCRIPTION:
URL:https://svdppeoria.com/event/womens-guild-meeting-2/2025-11-04/
LOCATION:Parish Hall
END:VEVENT
BEGIN:VEVENT
DTSTART;TZID=America/Chicago:20251107T054500
DTEND;TZID=America/Chicago:20251107T071500
DTSTAMP:20260423T125544
CREATED:20250804T155158Z
LAST-MODIFIED:20260122T180211Z
UID:10000480-1762494300-1762499700@svdppeoria.com
SUMMARY:That Man is You
DESCRIPTION:
URL:https://svdppeoria.com/event/that-man-is-you/2025-11-07/
LOCATION:Parish Hall
END:VEVENT
BEGIN:VEVENT
DTSTART;TZID=America/Chicago:20251111T080000
DTEND;TZID=America/Chicago:20251111T180000
DTSTAMP:20260423T125544
CREATED:20250804T161706Z
LAST-MODIFIED:20250804T161706Z
UID:10000753-1762848000-1762884000@svdppeoria.com
SUMMARY:Tuesday Adoration
DESCRIPTION:
URL:https://svdppeoria.com/event/tuesday-adoration/2025-11-11/
LOCATION:Sanctuary
END:VEVENT
BEGIN:VEVENT
DTSTART;TZID=America/Chicago:20251114T054500
DTEND;TZID=America/Chicago:20251114T071500
DTSTAMP:20260423T125544
CREATED:20250804T155158Z
LAST-MODIFIED:20260122T180211Z
UID:10000481-1763099100-1763104500@svdppeoria.com
SUMMARY:That Man is You
DESCRIPTION:
URL:https://svdppeoria.com/event/that-man-is-you/2025-11-14/
LOCATION:Parish Hall
END:VEVENT
BEGIN:VEVENT
DTSTART;TZID=America/Chicago:20251116T180000
DTEND;TZID=America/Chicago:20251116T200000
DTSTAMP:20260423T125544
CREATED:20250804T154324Z
LAST-MODIFIED:20250804T154640Z
UID:10000470-1763316000-1763323200@svdppeoria.com
SUMMARY:LifeTeen: Between You and Me (Life Night on Confession) - St. Thomas
DESCRIPTION:All high school students are welcome!
URL:https://svdppeoria.com/event/lifeteen-between-you-and-me-life-night-on-confession-st-thomas/
LOCATION:St. Thomas Parish Hall
CATEGORIES:LifeTeen
END:VEVENT
BEGIN:VEVENT
DTSTART;TZID=America/Chicago:20251118T080000
DTEND;TZID=America/Chicago:20251118T180000
DTSTAMP:20260423T125544
CREATED:20250804T161706Z
LAST-MODIFIED:20250804T161706Z
UID:10000754-1763452800-1763488800@svdppeoria.com
SUMMARY:Tuesday Adoration
DESCRIPTION:
URL:https://svdppeoria.com/event/tuesday-adoration/2025-11-18/
LOCATION:Sanctuary
END:VEVENT
BEGIN:VEVENT
DTSTART;TZID=America/Chicago:20251121T054500
DTEND;TZID=America/Chicago:20251121T071500
DTSTAMP:20260423T125544
CREATED:20250804T155158Z
LAST-MODIFIED:20260122T180211Z
UID:10000482-1763703900-1763709300@svdppeoria.com
SUMMARY:That Man is You
DESCRIPTION:
URL:https://svdppeoria.com/event/that-man-is-you/2025-11-21/
LOCATION:Parish Hall
END:VEVENT
BEGIN:VEVENT
DTSTART;TZID=America/Chicago:20251125T080000
DTEND;TZID=America/Chicago:20251125T180000
DTSTAMP:20260423T125544
CREATED:20250804T161706Z
LAST-MODIFIED:20250804T161706Z
UID:10000755-1764057600-1764093600@svdppeoria.com
SUMMARY:Tuesday Adoration
DESCRIPTION:
URL:https://svdppeoria.com/event/tuesday-adoration/2025-11-25/
LOCATION:Sanctuary
END:VEVENT
END:VCALENDAR