BEGIN:VCALENDAR
VERSION:2.0
PRODID:-//St. Vincent de Paul Parish - ECPv6.7.0//NONSGML v1.0//EN
CALSCALE:GREGORIAN
METHOD:PUBLISH
X-ORIGINAL-URL:https://svdppeoria.com
X-WR-CALDESC:Events for St. Vincent de Paul Parish
REFRESH-INTERVAL;VALUE=DURATION:PT1H
X-Robots-Tag:noindex
X-PUBLISHED-TTL:PT1H
BEGIN:VTIMEZONE
TZID:America/Chicago
BEGIN:DAYLIGHT
TZOFFSETFROM:-0600
TZOFFSETTO:-0500
TZNAME:CDT
DTSTART:20250309T080000
END:DAYLIGHT
BEGIN:STANDARD
TZOFFSETFROM:-0500
TZOFFSETTO:-0600
TZNAME:CST
DTSTART:20251102T070000
END:STANDARD
BEGIN:DAYLIGHT
TZOFFSETFROM:-0600
TZOFFSETTO:-0500
TZNAME:CDT
DTSTART:20260308T080000
END:DAYLIGHT
BEGIN:STANDARD
TZOFFSETFROM:-0500
TZOFFSETTO:-0600
TZNAME:CST
DTSTART:20261101T070000
END:STANDARD
END:VTIMEZONE
BEGIN:VEVENT
DTSTART;TZID=America/Chicago:20260423T180000
DTEND;TZID=America/Chicago:20260423T200000
DTSTAMP:20260424T071003
CREATED:20250804T160905Z
LAST-MODIFIED:20250804T160905Z
UID:10000737-1776967200-1776974400@svdppeoria.com
SUMMARY:Bingo Night
DESCRIPTION:
URL:https://svdppeoria.com/event/bingo-night/
LOCATION:Parish Hall
CATEGORIES:Women's Guild
END:VEVENT
BEGIN:VEVENT
DTSTART;TZID=America/Chicago:20260329T100000
DTEND;TZID=America/Chicago:20260329T110000
DTSTAMP:20260424T071003
CREATED:20250804T160820Z
LAST-MODIFIED:20250804T160820Z
UID:10000736-1774778400-1774782000@svdppeoria.com
SUMMARY:Easter Egg Hunt
DESCRIPTION:
URL:https://svdppeoria.com/event/easter-egg-hunt-2/
LOCATION:Soccer Fields
CATEGORIES:Women's Guild
END:VEVENT
BEGIN:VEVENT
DTSTART;VALUE=DATE:20260321
DTEND;VALUE=DATE:20260322
DTSTAMP:20260424T071003
CREATED:20250804T160728Z
LAST-MODIFIED:20250804T160728Z
UID:10000735-1774051200-1774137599@svdppeoria.com
SUMMARY:Women's Lenten Retreat
DESCRIPTION:
URL:https://svdppeoria.com/event/womens-lenten-retreat/
LOCATION:Parish Hall
CATEGORIES:Women's Guild
END:VEVENT
BEGIN:VEVENT
DTSTART;TZID=America/Chicago:20260221T173000
DTEND;TZID=America/Chicago:20260221T190000
DTSTAMP:20260424T071003
CREATED:20250804T160634Z
LAST-MODIFIED:20250804T160634Z
UID:10000734-1771695000-1771700400@svdppeoria.com
SUMMARY:Daddy Daughter Dance
DESCRIPTION:
URL:https://svdppeoria.com/event/daddy-daughter-dance/
LOCATION:Parish Hall
CATEGORIES:Women's Guild
END:VEVENT
BEGIN:VEVENT
DTSTART;TZID=America/Chicago:20260124T173000
DTEND;TZID=America/Chicago:20260124T190000
DTSTAMP:20260424T071003
CREATED:20250804T160529Z
LAST-MODIFIED:20250804T160658Z
UID:10000733-1769275800-1769281200@svdppeoria.com
SUMMARY:Chili Supper & Book Fair
DESCRIPTION:
URL:https://svdppeoria.com/event/chili-supper-book-fair/
LOCATION:Parish Hall
CATEGORIES:Women's Guild
END:VEVENT
BEGIN:VEVENT
DTSTART;TZID=America/Chicago:20251204T080000
DTEND;TZID=America/Chicago:20251204T170000
DTSTAMP:20260424T071003
CREATED:20250801T152615Z
LAST-MODIFIED:20250801T152615Z
UID:10000462-1764835200-1764867600@svdppeoria.com
SUMMARY:Women's Advent Mass & Dinner
DESCRIPTION:
URL:https://svdppeoria.com/event/womens-advent-mass-dinner/
LOCATION:Parish Hall
CATEGORIES:Women's Guild
END:VEVENT
BEGIN:VEVENT
DTSTART;TZID=America/Chicago:20251025T180000
DTEND;TZID=America/Chicago:20251025T200000
DTSTAMP:20260424T071003
CREATED:20250801T150645Z
LAST-MODIFIED:20250801T150645Z
UID:10000460-1761415200-1761422400@svdppeoria.com
SUMMARY:Trunk or Treat
DESCRIPTION:
URL:https://svdppeoria.com/event/trunk-or-treat/
LOCATION:Parking Lot
CATEGORIES:Women's Guild
END:VEVENT
BEGIN:VEVENT
DTSTART;TZID=America/Chicago:20251017T190000
DTEND;TZID=America/Chicago:20251017T210000
DTSTAMP:20260424T071003
CREATED:20250801T150607Z
LAST-MODIFIED:20250801T150607Z
UID:10000459-1760727600-1760734800@svdppeoria.com
SUMMARY:Ladies Night Out: Friendship Speed "Dating"
DESCRIPTION:
URL:https://svdppeoria.com/event/ladies-night-out-friendship-speed-dating/
LOCATION:Parish Hall
CATEGORIES:Women's Guild
END:VEVENT
BEGIN:VEVENT
DTSTART;TZID=America/Chicago:20250821T183000
DTEND;TZID=America/Chicago:20250821T200000
DTSTAMP:20260424T071003
CREATED:20250801T150421Z
LAST-MODIFIED:20250801T150511Z
UID:10000458-1755801000-1755806400@svdppeoria.com
SUMMARY:Ladies Night Out: Paint & Sip
DESCRIPTION:
URL:https://svdppeoria.com/event/ladies-night-out-paint-sip/
LOCATION:Parish Hall
CATEGORIES:Women's Guild
END:VEVENT
BEGIN:VEVENT
DTSTART;TZID=America/Chicago:20250816T170000
DTEND;TZID=America/Chicago:20250816T200000
DTSTAMP:20260424T071003
CREATED:20250801T150331Z
LAST-MODIFIED:20250801T150331Z
UID:10000457-1755363600-1755374400@svdppeoria.com
SUMMARY:Viking Fun Fest
DESCRIPTION:
URL:https://svdppeoria.com/event/viking-fun-fest/
LOCATION:Parking Lot
CATEGORIES:Women's Guild
END:VEVENT
BEGIN:VEVENT
DTSTART;VALUE=DATE:20250802
DTEND;VALUE=DATE:20250803
DTSTAMP:20260424T071003
CREATED:20250801T150245Z
LAST-MODIFIED:20250801T150245Z
UID:10000456-1754092800-1754179199@svdppeoria.com
SUMMARY:Used Uniform Sale
DESCRIPTION:
URL:https://svdppeoria.com/event/used-uniform-sale/
LOCATION:Livingston Gym
CATEGORIES:Women's Guild
END:VEVENT
END:VCALENDAR