BEGIN:VCALENDAR
VERSION:2.0
PRODID:-//St. Vincent de Paul Parish - ECPv6.7.0//NONSGML v1.0//EN
CALSCALE:GREGORIAN
METHOD:PUBLISH
X-ORIGINAL-URL:https://svdppeoria.com
X-WR-CALDESC:Events for St. Vincent de Paul Parish
REFRESH-INTERVAL;VALUE=DURATION:PT1H
X-Robots-Tag:noindex
X-PUBLISHED-TTL:PT1H
BEGIN:VTIMEZONE
TZID:America/Chicago
BEGIN:DAYLIGHT
TZOFFSETFROM:-0600
TZOFFSETTO:-0500
TZNAME:CDT
DTSTART:20260308T080000
END:DAYLIGHT
BEGIN:STANDARD
TZOFFSETFROM:-0500
TZOFFSETTO:-0600
TZNAME:CST
DTSTART:20261101T070000
END:STANDARD
END:VTIMEZONE
BEGIN:VEVENT
DTSTART;TZID=America/Chicago:20260121T173000
DTEND;TZID=America/Chicago:20260121T193000
DTSTAMP:20260423T063449
CREATED:20251119T163954Z
LAST-MODIFIED:20251119T163954Z
UID:10000787-1769016600-1769023800@svdppeoria.com
SUMMARY:Encounter Night
DESCRIPTION:Join us for silent Adoration and confessions at 5:30 pm. Live Music will begin at 6:30pm.
URL:https://svdppeoria.com/event/encounter-night-2/
END:VEVENT
END:VCALENDAR